BEGIN:VCALENDAR
VERSION:2.0
CALSCALE:GREGORIAN
BEGIN:VEVENT
DTSTAMP:20260420T074426
DTSTART:20260509T150000
DTEND:20260509T170000
SUMMARY:Make Your Own Limoncello
DESCRIPTION:Event Info: https://www.localwineevents.com/view/event/make-your-own-limoncello/1002545
LOCATION:9 Via Toscana -- 9 Via Toscana Salem, NH 03079
STATUS:CONFIRMED
SEQUENCE:0
TRANSP:OPAQUE
END:VEVENT
END:VCALENDAR
