BEGIN:VCALENDAR
VERSION:2.0
CALSCALE:GREGORIAN
BEGIN:VEVENT
DTSTAMP:20260420T104121
DTSTART:20260509T130000
DTEND:20260509T160000
SUMMARY:Uncorked In Bloom: Mother\'s Day At Harford Winery
DESCRIPTION:Event Info: https://www.localwineevents.com/view/event/uncorked-in-bloom-mothers-day-at-harford-winery/1002544
LOCATION:Harford Vineyard  Winery -- 1311 Jarrettsville Road Forest Hill, MD 21050
STATUS:CONFIRMED
SEQUENCE:0
TRANSP:OPAQUE
END:VEVENT
END:VCALENDAR
