BEGIN:VCALENDAR
VERSION:2.0
CALSCALE:GREGORIAN
BEGIN:VEVENT
DTSTAMP:20260420T074425
DTSTART:20260509T124500
DTEND:20260509T130000
SUMMARY:Tarot  Sip
DESCRIPTION:Event Info: https://www.localwineevents.com/view/event/tarot-sip/1002540
LOCATION:Leyden Farm Vineyard  Winery -- 160 Plain Meeting House Road West Greenwich, RI 02817
STATUS:CONFIRMED
SEQUENCE:0
TRANSP:OPAQUE
END:VEVENT
END:VCALENDAR
