BEGIN:VCALENDAR
VERSION:2.0
CALSCALE:GREGORIAN
BEGIN:VEVENT
DTSTAMP:20260421T080535
DTSTART:20260509T130000
DTEND:20260509T170000
SUMMARY:Ballantyne Wine Festival
DESCRIPTION:Event Info: https://www.localwineevents.com/view/event/ballantyne-wine-festival/1002538
LOCATION:Ballantyne Village -- 14825 Ballantyne Village Way Charlotte, NC 28277
STATUS:CONFIRMED
SEQUENCE:0
TRANSP:OPAQUE
END:VEVENT
END:VCALENDAR
