BEGIN:VCALENDAR
VERSION:2.0
CALSCALE:GREGORIAN
BEGIN:VEVENT
DTSTAMP:20260420T212354
DTSTART:20260509T120000
DTEND:20260509T150000
SUMMARY:Alta Orsa Winery  - May 9th  Asado
DESCRIPTION:Event Info: https://www.localwineevents.com/view/event/alta-orsa-winery---may-9th-asado/1002537
LOCATION:Alta Orsa Winery -- 1850 Duncan Springs Road Hopland, CA 95449
STATUS:CONFIRMED
SEQUENCE:0
TRANSP:OPAQUE
END:VEVENT
END:VCALENDAR
