BEGIN:VCALENDAR
VERSION:2.0
CALSCALE:GREGORIAN
BEGIN:VEVENT
DTSTAMP:20260421T163034
DTSTART:20260509T120000
DTEND:20260509T170000
SUMMARY:Olea Vineyards 5th Annual Pinots, Plants And Pots Spring Gathering
DESCRIPTION:Event Info: https://www.localwineevents.com/view/event/olea-vineyards-5th-annual-pinots-plants-and-pots-spring-gathering/1002536
LOCATION:17406 SW Parrett Mountain Rd -- 17406 Southwest Parrett Mountain Road Sherwood, OR 97140
STATUS:CONFIRMED
SEQUENCE:0
TRANSP:OPAQUE
END:VEVENT
END:VCALENDAR
