BEGIN:VCALENDAR
VERSION:2.0
CALSCALE:GREGORIAN
BEGIN:VEVENT
DTSTAMP:20260420T090654
DTSTART:20260509T140000
DTEND:20260509T160000
SUMMARY:Afternoon Tea For Mother\'s Day
DESCRIPTION:Event Info: https://www.localwineevents.com/view/event/afternoon-tea-for-mothers-day/1002533
LOCATION:14053 Midland Rd -- 14053 Midland Road Poway, CA 92064
STATUS:CONFIRMED
SEQUENCE:0
TRANSP:OPAQUE
END:VEVENT
END:VCALENDAR
