BEGIN:VCALENDAR
VERSION:2.0
CALSCALE:GREGORIAN
BEGIN:VEVENT
DTSTAMP:20260420T154405
DTSTART:20260509T143000
DTEND:20260509T163000
SUMMARY:Mommy And Me Cheese Board Workshop
DESCRIPTION:Event Info: https://www.localwineevents.com/view/event/mommy-and-me-cheese-board-workshop/1002530
LOCATION:Neighbors  Friends -- 88 Union Street Pasadena, CA 91103
STATUS:CONFIRMED
SEQUENCE:0
TRANSP:OPAQUE
END:VEVENT
END:VCALENDAR
