BEGIN:VCALENDAR
VERSION:2.0
CALSCALE:GREGORIAN
BEGIN:VEVENT
DTSTAMP:20260420T074447
DTSTART:20260509T110000
DTEND:20260509T130000
SUMMARY:Pizza And Hand Stretched Mozzarella
DESCRIPTION:Event Info: https://www.localwineevents.com/view/event/pizza-and-hand-stretched-mozzarella/1002529
LOCATION:9 Via Toscana -- 9 Via Toscana Salem, NH 03079
STATUS:CONFIRMED
SEQUENCE:0
TRANSP:OPAQUE
END:VEVENT
END:VCALENDAR
