BEGIN:VCALENDAR
VERSION:2.0
CALSCALE:GREGORIAN
BEGIN:VEVENT
DTSTAMP:20260421T163949
DTSTART:20260509T123000
DTEND:20260509T140000
SUMMARY:St. Patty\'s Day Cocktail Class
DESCRIPTION:Event Info: https://www.localwineevents.com/view/event/st-pattys-day-cocktail-class/1002528
LOCATION:Day Drink. Wine  Cocktail Lounge -- 215 West Camp Wisdom Road Duncanville, TX 75116
STATUS:CONFIRMED
SEQUENCE:0
TRANSP:OPAQUE
END:VEVENT
END:VCALENDAR
