BEGIN:VCALENDAR
VERSION:2.0
CALSCALE:GREGORIAN
BEGIN:VEVENT
DTSTAMP:20260420T074506
DTSTART:20260509T130000
DTEND:20260509T160000
SUMMARY:Ros And Watercolor With Artist Heidy Sumei Chuang
DESCRIPTION:Event Info: https://www.localwineevents.com/view/event/ros-and-watercolor-with-artist-heidy-sumei-chuang/1002520
LOCATION:Commonwealth Wine School -- 35 Dunster Street Cambridge, MA 02138
STATUS:CONFIRMED
SEQUENCE:0
TRANSP:OPAQUE
END:VEVENT
END:VCALENDAR
