BEGIN:VCALENDAR
VERSION:2.0
CALSCALE:GREGORIAN
BEGIN:VEVENT
DTSTAMP:20260420T074507
DTSTART:20260509T150000
DTEND:20260509T160000
SUMMARY:Mothers Day Sip  Savor: Women In Wine
DESCRIPTION:Event Info: https://www.localwineevents.com/view/event/mothers-day-sip-savor-women-in-wine/1002519
LOCATION:Eataly Chicago -- 43 East Ohio Street Chicago, IL 60611
STATUS:CONFIRMED
SEQUENCE:0
TRANSP:OPAQUE
END:VEVENT
END:VCALENDAR
