BEGIN:VCALENDAR
VERSION:2.0
CALSCALE:GREGORIAN
BEGIN:VEVENT
DTSTAMP:20260421T164732
DTSTART:20260509T120000
DTEND:20260509T170000
SUMMARY:\'Shop Like A Mother\' Sip N Shop | Texas Wine |  Live Music  | Anna, TX
DESCRIPTION:Event Info: https://www.localwineevents.com/view/event/shop-like-a-mother-sip-n-shop-texas-wine-live-music-anna-tx/1002516
LOCATION:BarnHill Vineyards -- 11917 County Road 509 Anna, TX 75409
STATUS:CONFIRMED
SEQUENCE:0
TRANSP:OPAQUE
END:VEVENT
END:VCALENDAR
