BEGIN:VCALENDAR
VERSION:2.0
CALSCALE:GREGORIAN
BEGIN:VEVENT
DTSTAMP:20260420T074506
DTSTART:20260509T130000
DTEND:20260509T153000
SUMMARY:Sip  Bloom: Wine + Floral Workshop | Saturday, May 9th 1pm To 3:30pm
DESCRIPTION:Event Info: https://www.localwineevents.com/view/event/sip-bloom-wine-floral-workshop-saturday-may-9th-1pm-to-330pm/1002510
LOCATION:Tippy Creek Winery -- 5920 N 200 E Leesburg, IN 46538
STATUS:CONFIRMED
SEQUENCE:0
TRANSP:OPAQUE
END:VEVENT
END:VCALENDAR
