BEGIN:VCALENDAR
VERSION:2.0
CALSCALE:GREGORIAN
BEGIN:VEVENT
DTSTAMP:20260421T163955
DTSTART:20260509T183000
DTEND:20260509T200000
SUMMARY:THE ROYAL TABLE :  Wine, Wisdom  Etiquette At The Winery
DESCRIPTION:Event Info: https://www.localwineevents.com/view/event/the-royal-table-wine-wisdom-etiquette-at-the-winery/1002507
LOCATION:Rosini Vineyards -- 411 State Highway 205 Rockwall, TX 75032
STATUS:CONFIRMED
SEQUENCE:0
TRANSP:OPAQUE
END:VEVENT
END:VCALENDAR
