BEGIN:VCALENDAR
VERSION:2.0
CALSCALE:GREGORIAN
BEGIN:VEVENT
DTSTAMP:20260420T074506
DTSTART:20260509T160000
DTEND:20260509T190000
SUMMARY:Stonestreet Estate Wine Tasting
DESCRIPTION:Event Info: https://www.localwineevents.com/view/event/stonestreet-estate-wine-tasting/1002505
LOCATION:Choice Wine  Beer -- 11160 Veirs Mill Road Wheaton-Glenmont, MD 20902
STATUS:CONFIRMED
SEQUENCE:0
TRANSP:OPAQUE
END:VEVENT
END:VCALENDAR
