BEGIN:VCALENDAR
VERSION:2.0
CALSCALE:GREGORIAN
BEGIN:VEVENT
DTSTAMP:20260420T075223
DTSTART:20260509T140000
DTEND:20260509T153000
SUMMARY:A Book And Wine Pairing Event- Summer Escape Reads!
DESCRIPTION:Event Info: https://www.localwineevents.com/view/event/a-book-and-wine-pairing-event--summer-escape-reads/1002497
LOCATION:Firefly Cellars -- 40325 Charles Town Pike Hamilton, VA 20158
STATUS:CONFIRMED
SEQUENCE:0
TRANSP:OPAQUE
END:VEVENT
END:VCALENDAR
