BEGIN:VCALENDAR
VERSION:2.0
CALSCALE:GREGORIAN
BEGIN:VEVENT
DTSTAMP:20260420T074447
DTSTART:20260509T160000
DTEND:20260509T180000
SUMMARY:TASTE  PAINT, Acrylic Painting Tutorial  Wine Tasting With Humor  HeART
DESCRIPTION:Event Info: https://www.localwineevents.com/view/event/taste-paint-acrylic-painting-tutorial-wine-tasting-with-humor-heart/1002496
LOCATION:Far Eastern Shore Winery -- 8370 Ocean Gateway Easton, MD 21601
STATUS:CONFIRMED
SEQUENCE:0
TRANSP:OPAQUE
END:VEVENT
END:VCALENDAR
