BEGIN:VCALENDAR
VERSION:2.0
CALSCALE:GREGORIAN
BEGIN:VEVENT
DTSTAMP:20260420T154357
DTSTART:20260509T183000
DTEND:20260509T220000
SUMMARY:Flamenco Dinner Show At Ole Tapas  Bar Long Beach (Formerly Cafe Sevilla)
DESCRIPTION:Event Info: https://www.localwineevents.com/view/event/flamenco-dinner-show-at-ole-tapas-bar-long-beach-formerly-cafe-sevilla/1002495
LOCATION:Cafe Sevilla of Long Beach -- 140 Pine Avenue Long Beach, CA 90802
STATUS:CONFIRMED
SEQUENCE:0
TRANSP:OPAQUE
END:VEVENT
END:VCALENDAR
