BEGIN:VCALENDAR
VERSION:2.0
CALSCALE:GREGORIAN
BEGIN:VEVENT
DTSTAMP:20260420T074703
DTSTART:20260509T183000
DTEND:20260509T200000
SUMMARY:Introduction To White Wine
DESCRIPTION:Event Info: https://www.localwineevents.com/view/event/introduction-to-white-wine/1002493
LOCATION:Commonwealth Wine School -- 35 Dunster Street Cambridge, MA 02138
STATUS:CONFIRMED
SEQUENCE:0
TRANSP:OPAQUE
END:VEVENT
END:VCALENDAR
