BEGIN:VCALENDAR
VERSION:2.0
CALSCALE:GREGORIAN
BEGIN:VEVENT
DTSTAMP:20260420T121914
DTSTART:20260509T183000
DTEND:20260509T200000
SUMMARY:Mountain VS Valley Wine Tasting Class
DESCRIPTION:Event Info: https://www.localwineevents.com/view/event/mountain-vs-valley-wine-tasting-class/1002487
LOCATION:WorkWell -- 17322 Murphy Avenue Irvine, CA 92614
STATUS:CONFIRMED
SEQUENCE:0
TRANSP:OPAQUE
END:VEVENT
END:VCALENDAR
