BEGIN:VCALENDAR
VERSION:2.0
CALSCALE:GREGORIAN
BEGIN:VEVENT
DTSTAMP:20260420T140646
DTSTART:20260509T180000
DTEND:20260509T200000
SUMMARY:A Mushroom Experience Dinner At ILF With Chef Matt Olley: Foraged Edition
DESCRIPTION:Event Info: https://www.localwineevents.com/view/event/a-mushroom-experience-dinner-at-ilf-with-chef-matt-olley-foraged-edition/1002486
LOCATION:Indian Ladder Farms Cidery and Brewery -- 342 Altamont Rd Altamont, NY 12009
STATUS:CONFIRMED
SEQUENCE:0
TRANSP:OPAQUE
END:VEVENT
END:VCALENDAR
