BEGIN:VCALENDAR
VERSION:2.0
CALSCALE:GREGORIAN
BEGIN:VEVENT
DTSTAMP:20260421T080427
DTSTART:20260509T120000
DTEND:20260509T170000
SUMMARY:Lexington Wine  Brew Festival
DESCRIPTION:Event Info: https://www.localwineevents.com/view/event/lexington-wine-brew-festival/1002485
LOCATION:Breeden Insurance Amphitheater -- 333 S Main St Lexington, NC 27292
STATUS:CONFIRMED
SEQUENCE:0
TRANSP:OPAQUE
END:VEVENT
END:VCALENDAR
