BEGIN:VCALENDAR
VERSION:2.0
CALSCALE:GREGORIAN
BEGIN:VEVENT
DTSTAMP:20260421T100942
DTSTART:20260509T103000
DTEND:20260509T123000
SUMMARY:Yoga + Wine At Evergreen Family Wines (Woodinville)
DESCRIPTION:Event Info: https://www.localwineevents.com/view/event/yoga-wine-at-evergreen-family-wines-woodinville/1002484
LOCATION:Evergreen Family Wines Woodinville (previously Milbrandt Vineyards) -- 14450 Redmond - Woodinville Road Northeast Woodinville, WA 98072
STATUS:CONFIRMED
SEQUENCE:0
TRANSP:OPAQUE
END:VEVENT
END:VCALENDAR
