BEGIN:VCALENDAR
VERSION:2.0
CALSCALE:GREGORIAN
BEGIN:VEVENT
DTSTAMP:20260420T074425
DTSTART:20260509T170000
DTEND:20260509T220000
SUMMARY:6th Annual The Tequila Convention @ The Brewery Lodge And Supper Club
DESCRIPTION:Event Info: https://www.localwineevents.com/view/event/6th-annual-the-tequila-convention-the-brewery-lodge-and-supper-club/1002480
LOCATION:The Brewery Lodge  Supper Club -- 5727 North 600 West Michigan City, IN 46360
STATUS:CONFIRMED
SEQUENCE:0
TRANSP:OPAQUE
END:VEVENT
END:VCALENDAR
