BEGIN:VCALENDAR
VERSION:2.0
CALSCALE:GREGORIAN
BEGIN:VEVENT
DTSTAMP:20260420T074507
DTSTART:20260509T150000
DTEND:20260509T190000
SUMMARY:Wine And Tarot Charcuterie Board Pre-Order | Sat. May 9th 3pm To 7pm
DESCRIPTION:Event Info: https://www.localwineevents.com/view/event/wine-and-tarot-charcuterie-board-pre-order-sat-may-9th-3pm-to-7pm/1002478
LOCATION:Tippy Creek Winery -- 5920 N 200 E Leesburg, IN 46538
STATUS:CONFIRMED
SEQUENCE:0
TRANSP:OPAQUE
END:VEVENT
END:VCALENDAR
