BEGIN:VCALENDAR
VERSION:2.0
CALSCALE:GREGORIAN
BEGIN:VEVENT
DTSTAMP:20260420T074507
DTSTART:20260509T170000
DTEND:20260509T210000
SUMMARY:804  Dinner And Wine Fundraiser
DESCRIPTION:Event Info: https://www.localwineevents.com/view/event/804-dinner-and-wine-fundraiser/1002475
LOCATION:804 Quintana Place Northwest, Washington, DC, USA -- 804 Quintana Place Northwest Washington, DC 20011
STATUS:CONFIRMED
SEQUENCE:0
TRANSP:OPAQUE
END:VEVENT
END:VCALENDAR
