BEGIN:VCALENDAR
VERSION:2.0
CALSCALE:GREGORIAN
BEGIN:VEVENT
DTSTAMP:20260420T074429
DTSTART:20260514T190000
DTEND:20260514T210000
SUMMARY:Our Shared Table: Spring Awakening Wine Dinner
DESCRIPTION:Event Info: https://www.localwineevents.com/view/event/our-shared-table-spring-awakening-wine-dinner/1002471
LOCATION:Happier Now Cafe and Market -- 1016 e 31st Street Lagrange Park, IL 60526
STATUS:CONFIRMED
SEQUENCE:0
TRANSP:OPAQUE
END:VEVENT
END:VCALENDAR
