BEGIN:VCALENDAR
VERSION:2.0
CALSCALE:GREGORIAN
BEGIN:VEVENT
DTSTAMP:20260420T090711
DTSTART:20260422T160000
DTEND:20260422T190000
SUMMARY:Wine Wednesday - High Elevation Wine Tasting
DESCRIPTION:Event Info: https://www.localwineevents.com/view/event/wine-wednesday---high-elevation-wine-tasting/1002470
LOCATION:The WineSellar and Brasserie -- 9550 Waples St #115 San Diego, CA 92121
STATUS:CONFIRMED
SEQUENCE:0
TRANSP:OPAQUE
END:VEVENT
END:VCALENDAR
