BEGIN:VCALENDAR
VERSION:2.0
CALSCALE:GREGORIAN
BEGIN:VEVENT
DTSTAMP:20260420T154358
DTSTART:20260508T083000
DTEND:20260508T140000
SUMMARY:2026 LACCD Culinary Cup Hosted By LA Trade Tech College
DESCRIPTION:Event Info: https://www.localwineevents.com/view/event/2026-laccd-culinary-cup-hosted-by-la-trade-tech-college/1002464
LOCATION:Los Angeles Trade Technical-College E3-Culinary Arts -- 400 West Washington Boulevard Los Angeles, CA 90015
STATUS:CONFIRMED
SEQUENCE:0
TRANSP:OPAQUE
END:VEVENT
END:VCALENDAR
