BEGIN:VCALENDAR
VERSION:2.0
CALSCALE:GREGORIAN
BEGIN:VEVENT
DTSTAMP:20260419T114723
DTSTART:20260508T183000
DTEND:20260508T210000
SUMMARY:In-Person Class: A Taste Of Thailand: Pad See Ew  Papaya Salad (NYC)
DESCRIPTION:Event Info: https://www.localwineevents.com/view/event/in-person-class-a-taste-of-thailand-pad-see-ew-papaya-salad-nyc/1002459
LOCATION:Gotham Bistro -- 326 West 40th Street New York, NY 10018
STATUS:CONFIRMED
SEQUENCE:0
TRANSP:OPAQUE
END:VEVENT
END:VCALENDAR
