BEGIN:VCALENDAR
VERSION:2.0
CALSCALE:GREGORIAN
BEGIN:VEVENT
DTSTAMP:20260419T111358
DTSTART:20260508T153000
DTEND:20260508T163000
SUMMARY:Open Lab Hours: Guided Training Session
DESCRIPTION:Event Info: https://www.localwineevents.com/view/event/open-lab-hours-guided-training-session/1002457
LOCATION:Dessert Oasis Coffee Roasters  Ferndale Cafe + Headquarters -- 927 Hilton Road Ferndale, MI 48220
STATUS:CONFIRMED
SEQUENCE:0
TRANSP:OPAQUE
END:VEVENT
END:VCALENDAR
