BEGIN:VCALENDAR
VERSION:2.0
CALSCALE:GREGORIAN
BEGIN:VEVENT
DTSTAMP:20260420T074446
DTSTART:20260508T170000
DTEND:20260508T190000
SUMMARY:Tiramisu  Indulgent Cocktails
DESCRIPTION:Event Info: https://www.localwineevents.com/view/event/tiramisu-indulgent-cocktails/1002455
LOCATION:9 Via Toscana -- 9 Via Toscana Salem, NH 03079
STATUS:CONFIRMED
SEQUENCE:0
TRANSP:OPAQUE
END:VEVENT
END:VCALENDAR
