BEGIN:VCALENDAR
VERSION:2.0
CALSCALE:GREGORIAN
BEGIN:VEVENT
DTSTAMP:20260420T174348
DTSTART:20260508T180000
DTEND:20260508T200000
SUMMARY:Signature Showdown - South Jersey\'s Best Latte Contest
DESCRIPTION:Event Info: https://www.localwineevents.com/view/event/signature-showdown---south-jerseys-best-latte-contest/1002453
LOCATION:Signature Workspace Cherry Hill -- 2000 New Jersey 38 Cherry Hill Township, NJ 08002
STATUS:CONFIRMED
SEQUENCE:0
TRANSP:OPAQUE
END:VEVENT
END:VCALENDAR
