BEGIN:VCALENDAR
VERSION:2.0
CALSCALE:GREGORIAN
BEGIN:VEVENT
DTSTAMP:20260422T233913
DTSTART:20260508T180000
DTEND:20260508T200000
SUMMARY:Cheese And Charcuterie Board 101: A Toast To Mom
DESCRIPTION:Event Info: https://www.localwineevents.com/view/event/cheese-and-charcuterie-board-101-a-toast-to-mom/1002450
LOCATION:Maffrey\'s -- 1225 North Orange Avenue Orlando, FL 32804
STATUS:CONFIRMED
SEQUENCE:0
TRANSP:OPAQUE
END:VEVENT
END:VCALENDAR
