BEGIN:VCALENDAR
VERSION:2.0
CALSCALE:GREGORIAN
BEGIN:VEVENT
DTSTAMP:20260419T114710
DTSTART:20260508T180000
DTEND:20260508T213000
SUMMARY:Abbotsford Road Latte Art Throw Down
DESCRIPTION:Event Info: https://www.localwineevents.com/view/event/abbotsford-road-latte-art-throw-down/1002448
LOCATION:499 Van Brunt St -- 499 Van Brunt Street Brooklyn, NY 11231
STATUS:CONFIRMED
SEQUENCE:0
TRANSP:OPAQUE
END:VEVENT
END:VCALENDAR
