BEGIN:VCALENDAR
VERSION:2.0
CALSCALE:GREGORIAN
BEGIN:VEVENT
DTSTAMP:20260420T173453
DTSTART:20260508T140000
DTEND:20260508T160000
SUMMARY:Espresso  Latte Art Class
DESCRIPTION:Event Info: https://www.localwineevents.com/view/event/espresso-latte-art-class/1002434
LOCATION:319 North 11th Street, Philadelphia, PA, USA -- 319 North 11th Street Philadelphia, PA 19107
STATUS:CONFIRMED
SEQUENCE:0
TRANSP:OPAQUE
END:VEVENT
END:VCALENDAR
