BEGIN:VCALENDAR
VERSION:2.0
CALSCALE:GREGORIAN
BEGIN:VEVENT
DTSTAMP:20260420T173430
DTSTART:20260508T200000
DTEND:20260508T220000
SUMMARY:Prohibition Era Cocktail Class
DESCRIPTION:Event Info: https://www.localwineevents.com/view/event/prohibition-era-cocktail-class/1002433
LOCATION:Infusion Lounge -- 16 South 2nd Street Philadelphia, PA 19106
STATUS:CONFIRMED
SEQUENCE:0
TRANSP:OPAQUE
END:VEVENT
END:VCALENDAR
