BEGIN:VCALENDAR
VERSION:2.0
CALSCALE:GREGORIAN
BEGIN:VEVENT
DTSTAMP:20260421T163949
DTSTART:20260508T103000
DTEND:20260508T120000
SUMMARY:Store Tour: Taste Of Eataly
DESCRIPTION:Event Info: https://www.localwineevents.com/view/event/store-tour-taste-of-eataly/1002432
LOCATION:Eataly Dallas -- 8687 North Central Expressway Dallas, TX 75225
STATUS:CONFIRMED
SEQUENCE:0
TRANSP:OPAQUE
END:VEVENT
END:VCALENDAR
