BEGIN:VCALENDAR
VERSION:2.0
CALSCALE:GREGORIAN
BEGIN:VEVENT
DTSTAMP:20260419T114750
DTSTART:20260508T180000
DTEND:20260508T190000
SUMMARY:Sip Japan: A Sake Tasting  Masterclass With Joshua Neiderer
DESCRIPTION:Event Info: https://www.localwineevents.com/view/event/sip-japan-a-sake-tasting-masterclass-with-joshua-neiderer/1002426
LOCATION:Westchester Wine Warehouse -- 53 Tarrytown Road White Plains, NY 10607
STATUS:CONFIRMED
SEQUENCE:0
TRANSP:OPAQUE
END:VEVENT
END:VCALENDAR
