BEGIN:VCALENDAR
VERSION:2.0
CALSCALE:GREGORIAN
BEGIN:VEVENT
DTSTAMP:20260421T161934
DTSTART:20260508T150000
DTEND:20260508T160000
SUMMARY:Distillery Tour  Tasting
DESCRIPTION:Event Info: https://www.localwineevents.com/view/event/distillery-tour-tasting/1002411
LOCATION:Freeland Spirits -- 2671 NW Vaughn St Portland, OR 97210
STATUS:CONFIRMED
SEQUENCE:0
TRANSP:OPAQUE
END:VEVENT
END:VCALENDAR
