BEGIN:VCALENDAR
VERSION:2.0
CALSCALE:GREGORIAN
BEGIN:VEVENT
DTSTAMP:20260419T114621
DTSTART:20260508T190000
DTEND:20260508T203000
SUMMARY:In-Person Class: Intro To Wine Tasting (NYC)
DESCRIPTION:Event Info: https://www.localwineevents.com/view/event/in-person-class-intro-to-wine-tasting-nyc/1002409
LOCATION:EVEN Hotel New York - Times Square South by IHG -- 321 West 35th Street New York, NY 10001
STATUS:CONFIRMED
SEQUENCE:0
TRANSP:OPAQUE
END:VEVENT
END:VCALENDAR
