BEGIN:VCALENDAR
VERSION:2.0
CALSCALE:GREGORIAN
BEGIN:VEVENT
DTSTAMP:20260420T074427
DTSTART:20260508T180000
DTEND:20260508T220000
SUMMARY:Raise A Glass With Richcroft 2026 -  Cheers To Inclusion
DESCRIPTION:Event Info: https://www.localwineevents.com/view/event/raise-a-glass-with-richcroft-2026---cheers-to-inclusion/1002408
LOCATION:Boordy Vineyards Inc -- 12820 Long Green Pike Hydes, MD 21082
STATUS:CONFIRMED
SEQUENCE:0
TRANSP:OPAQUE
END:VEVENT
END:VCALENDAR
