BEGIN:VCALENDAR
VERSION:2.0
CALSCALE:GREGORIAN
BEGIN:VEVENT
DTSTAMP:20260419T114709
DTSTART:20260508T190000
DTEND:20260508T220000
SUMMARY:8th Annual Tasting By The Sea
DESCRIPTION:Event Info: https://www.localwineevents.com/view/event/8th-annual-tasting-by-the-sea/1002404
LOCATION:Long Beach Catholic Regional School -- 735 West Broadway Long Beach, NY 11561
STATUS:CONFIRMED
SEQUENCE:0
TRANSP:OPAQUE
END:VEVENT
END:VCALENDAR
