BEGIN:VCALENDAR
VERSION:2.0
CALSCALE:GREGORIAN
BEGIN:VEVENT
DTSTAMP:20260420T143738
DTSTART:20260508T173000
DTEND:20260508T190000
SUMMARY:Wine  Cheese Pairing
DESCRIPTION:Event Info: https://www.localwineevents.com/view/event/wine-cheese-pairing/1002403
LOCATION:Dora Dain Wines -- 2560 Crosby Herold Road Lincoln, CA 95648
STATUS:CONFIRMED
SEQUENCE:0
TRANSP:OPAQUE
END:VEVENT
END:VCALENDAR
