BEGIN:VCALENDAR
VERSION:2.0
CALSCALE:GREGORIAN
BEGIN:VEVENT
DTSTAMP:20260419T114725
DTSTART:20260508T130000
DTEND:20260508T143000
SUMMARY:Hands-On: Lasagna Alla Bolognese
DESCRIPTION:Event Info: https://www.localwineevents.com/view/event/hands-on-lasagna-alla-bolognese/1002399
LOCATION:Eataly NYC Flatiron -- 200 5th Avenue New York, NY 10010
STATUS:CONFIRMED
SEQUENCE:0
TRANSP:OPAQUE
END:VEVENT
END:VCALENDAR
