BEGIN:VCALENDAR
VERSION:2.0
CALSCALE:GREGORIAN
BEGIN:VEVENT
DTSTAMP:20260420T074528
DTSTART:20260508T173000
DTEND:20260508T193000
SUMMARY:Charcuterie Board Class
DESCRIPTION:Event Info: https://www.localwineevents.com/view/event/charcuterie-board-class/1002396
LOCATION:Laconiko -- 11301 Braden Drive Manassas, VA 20109
STATUS:CONFIRMED
SEQUENCE:0
TRANSP:OPAQUE
END:VEVENT
END:VCALENDAR
