BEGIN:VCALENDAR
VERSION:2.0
CALSCALE:GREGORIAN
BEGIN:VEVENT
DTSTAMP:20260419T114726
DTSTART:20260508T150000
DTEND:20260508T200000
SUMMARY:Annual Townsend Manor Dinner
DESCRIPTION:Event Info: https://www.localwineevents.com/view/event/annual-townsend-manor-dinner/1002391
LOCATION:Townsend Manor Inn -- 714 Main Street Greenport, NY 11944
STATUS:CONFIRMED
SEQUENCE:0
TRANSP:OPAQUE
END:VEVENT
END:VCALENDAR
