BEGIN:VCALENDAR
VERSION:2.0
CALSCALE:GREGORIAN
BEGIN:VEVENT
DTSTAMP:20260419T114726
DTSTART:20260508T190000
DTEND:20260508T203000
SUMMARY:Paint  Sip: Mother\'s Day Edition
DESCRIPTION:Event Info: https://www.localwineevents.com/view/event/paint-sip-mothers-day-edition/1002389
LOCATION:Eataly NYC Downtown -- 101 Liberty Street New York, NY 10007
STATUS:CONFIRMED
SEQUENCE:0
TRANSP:OPAQUE
END:VEVENT
END:VCALENDAR
