BEGIN:VCALENDAR
VERSION:2.0
CALSCALE:GREGORIAN
BEGIN:VEVENT
DTSTAMP:20260420T074604
DTSTART:20260508T180000
DTEND:20260508T210000
SUMMARY:Mother\'s Day Dinner
DESCRIPTION:Event Info: https://www.localwineevents.com/view/event/mothers-day-dinner/1002388
LOCATION:Schola -- 2744 Lighthouse Point East Baltimore, MD 21224
STATUS:CONFIRMED
SEQUENCE:0
TRANSP:OPAQUE
END:VEVENT
END:VCALENDAR
